BEGIN:VCALENDAR
VERSION:2.0
PRODID:-//Behçet&#039;s UK - ECPv6.15.20//NONSGML v1.0//EN
CALSCALE:GREGORIAN
METHOD:PUBLISH
X-ORIGINAL-URL:https://behcetsuk.org
X-WR-CALDESC:Events for Behçet&#039;s UK
REFRESH-INTERVAL;VALUE=DURATION:PT1H
X-Robots-Tag:noindex
X-PUBLISHED-TTL:PT1H
BEGIN:VTIMEZONE
TZID:Europe/London
BEGIN:DAYLIGHT
TZOFFSETFROM:+0000
TZOFFSETTO:+0100
TZNAME:BST
DTSTART:20250330T010000
END:DAYLIGHT
BEGIN:STANDARD
TZOFFSETFROM:+0100
TZOFFSETTO:+0000
TZNAME:GMT
DTSTART:20251026T010000
END:STANDARD
BEGIN:DAYLIGHT
TZOFFSETFROM:+0000
TZOFFSETTO:+0100
TZNAME:BST
DTSTART:20260329T010000
END:DAYLIGHT
BEGIN:STANDARD
TZOFFSETFROM:+0100
TZOFFSETTO:+0000
TZNAME:GMT
DTSTART:20261025T010000
END:STANDARD
BEGIN:DAYLIGHT
TZOFFSETFROM:+0000
TZOFFSETTO:+0100
TZNAME:BST
DTSTART:20270328T010000
END:DAYLIGHT
BEGIN:STANDARD
TZOFFSETFROM:+0100
TZOFFSETTO:+0000
TZNAME:GMT
DTSTART:20271031T010000
END:STANDARD
END:VTIMEZONE
BEGIN:VEVENT
DTSTART;TZID=Europe/London:20260112T190000
DTEND;TZID=Europe/London:20260112T203000
DTSTAMP:20260420T005554
CREATED:20251204T160932Z
LAST-MODIFIED:20251209T095937Z
UID:21807-1768244400-1768249800@behcetsuk.org
SUMMARY:Northern Ireland Online Support Group Meeting
DESCRIPTION:Behçet’s UK Trustee Fionnuala Mc Kinley\, is hosting a support group meeting via Zoom on Monday 12 January 2026 at 7pm – 8:30pm for any adults affected by Behçet’s and living in Northern Ireland or Ireland. \nMeeting topic: General meeting\nThis session will be a general support group meeting\, where everyone can chat and ask questions. Fionnuala will guide the discussion based on your input. \nHow to join\nIf you are interested in joining this meeting\, please visit our Behçet’s Support Group page and complete the online registration form by 11:30 a.m. on Monday 12 January 2026. \nIf you are unable to attend this meeting but would like to receive invitations to future meetings\, please complete the online registration form at any time. \nFrequently Asked Questions\nIf you’d like to learn more about our support groups\, please view our Frequently Asked Questions.  If you have any other questions\, please feel free to email us at info@behcetsuk.org \nRemember\nBehçet’s Support Groups are run by volunteers with personal experience of Behçet’s or long-term involvement in the Behçet’s community. While Behçet’s UK and our volunteers cannot provide medical advice\, we can guide you to reliable information. Hearing about what has worked for others can also support your conversations with your own healthcare team. \nOur groups offer peer support – stories and tips shared in the groups reflect individual experiences. What works\, or doesn’t work\, for one person may not be the same for others. You must never delay seeking medical advice\, ignore professional guidance\, or stop/change your treatment based on information shared in support group meetings.
URL:https://behcetsuk.org/event/northern-ireland-online-support-group-meeting-8/
LOCATION:Online
CATEGORIES:Behçet's Support Groups
ORGANIZER;CN="Beh%C3%A7et's UK":MAILTO:info@behcetsuk.org
END:VEVENT
BEGIN:VEVENT
DTSTART;TZID=Europe/London:20260119T193000
DTEND;TZID=Europe/London:20260119T210000
DTSTAMP:20260420T005554
CREATED:20260107T134232Z
LAST-MODIFIED:20260107T134232Z
UID:22006-1768851000-1768856400@behcetsuk.org
SUMMARY:England Online Behçet’s Support Group Meeting (Evening)
DESCRIPTION:Volunteer Sarah McAllister is hosting an online support group on Zoom on Monday  19 January 2026\, from 7.30 pm – 9.00 pm for anyone aged 18 or over living in England who is affected by Behçet’s. \n\n\nMeeting topic: Mental Health\nResearch shows that people living with long-term health conditions\, including Behçet’s\, are more likely to experience anxiety\, low mood\, and other mental health challenges. \nWith January often being a challenging month for many\, and with ‘Blue Monday’ falling on the 19th\, Sarah felt it would be appropriate for this meeting to focus on mental health \nHow to join\n\n\n\nIf you are interested in joining this meeting\, please visit our Behçet’s Support Group page and complete the online registration form by 11:30 am on Monday 19 January 2026. \nIf you are unable to attend this meeting but would like to receive invitations to future meetings\, please complete the online registration form at anytime. \nFrequently Asked Questions\nIf you’d like to learn more about our support groups\, please view our Frequently Asked Questions.  If you have any other questions\, please feel free to email us at info@behcetsuk.org \nRemember\nBehçet’s Support Groups are run by volunteers with personal experience of Behçet’s or long-term involvement in the Behçet’s community. While Behçet’s UK and our volunteers cannot provide medical advice\, we can guide you to reliable information. Hearing about what has worked for others can also support your conversations with your own healthcare team. \nOur groups offer peer support – stories and tips shared in the groups reflect individual experiences. What works\, or doesn’t work\, for one person may not be the same for others. You must never delay seeking medical advice\, ignore professional guidance\, or stop/change your treatment based on information shared in support group meetings.
URL:https://behcetsuk.org/event/england-online-behcets-support-group-meeting-evening-2/
CATEGORIES:Behçet's Support Groups
END:VEVENT
BEGIN:VEVENT
DTSTART;TZID=Europe/London:20260131T100000
DTEND;TZID=Europe/London:20260131T120000
DTSTAMP:20260420T005554
CREATED:20260107T140108Z
LAST-MODIFIED:20260107T140503Z
UID:22010-1769853600-1769860800@behcetsuk.org
SUMMARY:Wales Online Support Group Meeting
DESCRIPTION:Trustee Rachael Humphreys is hosting another Zoom support group meeting for those affected by Behçet’s in Wales on Saturday 31 January from 10:00am-12:00pm. \nThe group is open to anyone aged 18 or over living in Wales who is affected by Behçet’s. \nMeeting topic: General meeting\nThis session will be a general support group meeting\, where everyone can chat and ask questions. Rachael will guide the discussion based on your input. \nRead Rachael’s Behçet’s story in the ‘Your Behçet’s Stories’ series here. \nHow to join\nIf you are interested in joining this meeting\, please visit our Behçet’s Support Group page and complete the online registration form by 11:30am on Friday 30 January 2026. \nIf you are unable to attend this meeting but would like to receive invitations to future meetings\, please complete the online registration form at any time. \nFrequently Asked Questions\nIf you’d like to learn more about our support groups\, please view our Frequently Asked Questions.  If you have any other questions\, please feel free to email us at info@behcetsuk.org \nRemember\nBehçet’s Support Groups are run by volunteers with personal experience of Behçet’s or long-term involvement in the Behçet’s community. While Behçet’s UK and our volunteers cannot provide medical advice\, we can guide you to reliable information. Hearing about what has worked for others can also support your conversations with your own healthcare team. \nOur groups offer peer support – stories and tips shared in the groups reflect individual experiences. What works\, or doesn’t work\, for one person may not be the same for others. You must never delay seeking medical advice\, ignore professional guidance\, or stop/change your treatment based on information shared in support group meetings.
URL:https://behcetsuk.org/event/wales-online-support-group-meeting-30/
END:VEVENT
END:VCALENDAR