BEGIN:VCALENDAR
VERSION:2.0
PRODID:-//Behçet&#039;s UK - ECPv6.15.20//NONSGML v1.0//EN
CALSCALE:GREGORIAN
METHOD:PUBLISH
X-WR-CALNAME:Behçet&#039;s UK
X-ORIGINAL-URL:https://behcetsuk.org
X-WR-CALDESC:Events for Behçet&#039;s UK
REFRESH-INTERVAL;VALUE=DURATION:PT1H
X-Robots-Tag:noindex
X-PUBLISHED-TTL:PT1H
BEGIN:VTIMEZONE
TZID:Europe/London
BEGIN:DAYLIGHT
TZOFFSETFROM:+0000
TZOFFSETTO:+0100
TZNAME:BST
DTSTART:20240331T010000
END:DAYLIGHT
BEGIN:STANDARD
TZOFFSETFROM:+0100
TZOFFSETTO:+0000
TZNAME:GMT
DTSTART:20241027T010000
END:STANDARD
BEGIN:DAYLIGHT
TZOFFSETFROM:+0000
TZOFFSETTO:+0100
TZNAME:BST
DTSTART:20250330T010000
END:DAYLIGHT
BEGIN:STANDARD
TZOFFSETFROM:+0100
TZOFFSETTO:+0000
TZNAME:GMT
DTSTART:20251026T010000
END:STANDARD
BEGIN:DAYLIGHT
TZOFFSETFROM:+0000
TZOFFSETTO:+0100
TZNAME:BST
DTSTART:20260329T010000
END:DAYLIGHT
BEGIN:STANDARD
TZOFFSETFROM:+0100
TZOFFSETTO:+0000
TZNAME:GMT
DTSTART:20261025T010000
END:STANDARD
END:VTIMEZONE
BEGIN:VEVENT
DTSTART;TZID=Europe/London:20250705T100000
DTEND;TZID=Europe/London:20250705T140000
DTSTAMP:20260420T114841
CREATED:20250624T151827Z
LAST-MODIFIED:20250624T151827Z
UID:21088-1751709600-1751724000@behcetsuk.org
SUMMARY:Children & Young People Living with Behçet's
DESCRIPTION:Children & Young People 2025 \n \n 
URL:https://behcetsuk.org/event/children-young-people-living-with-behcets/
ORGANIZER;CN="Beh%C3%A7et's UK":MAILTO:info@behcetsuk.org
END:VEVENT
BEGIN:VEVENT
DTSTART;TZID=Europe/London:20250710T193000
DTEND;TZID=Europe/London:20250710T210000
DTSTAMP:20260420T114841
CREATED:20250624T152541Z
LAST-MODIFIED:20250624T160612Z
UID:21060-1752175800-1752181200@behcetsuk.org
SUMMARY:England Online Support Group Meeting
DESCRIPTION:Volunteer Sarah McAllister is hosting an online support group on Zoom on Thursday\, 10 July 2025\, from 7.30 pm – 9.00 pm for anyone affected by Behçet’s and living in England. \nMeeting topic: Behçet’s & intestines\nOverview and discussion about how Behçet’s affects the intestines: complications that may arise\, and what treatments are available. \nIf you are interested in joining or wish to know more\, please get in touch with Sarah via info@behcetsuk.org \nNote: We do not offer medical advice – this topic is to signpost you to information available online and discuss what works for others to encourage conversations with your own medical team about symptoms and treatment. Any discussions are anecdotal and must be treated as such.
URL:https://behcetsuk.org/event/england-online-support-group-meeting-17/
END:VEVENT
BEGIN:VEVENT
DTSTART;TZID=Europe/London:20250719T110000
DTEND;TZID=Europe/London:20250719T130000
DTSTAMP:20260420T114841
CREATED:20250618T073205Z
LAST-MODIFIED:20250624T152636Z
UID:21064-1752922800-1752930000@behcetsuk.org
SUMMARY:Wales Support Group Brunch
DESCRIPTION:Trustee Rachael Humphreys is hosting a support group brunch on Saturday 19 July 2025 at 11am – 1pm at Waterloo Tea Gardens\, in Wyndham Arcade in Cardiff\, for those affected by Behçet’s in Wales. \nIt is free to attend however you will need to buy your own food and drinks. \nIf you’d like to attend\, please email Rachael via info@behcetsuk.org\, and please include your mobile number in case we need to get in touch with you on the day.
URL:https://behcetsuk.org/event/wales-support-group-brunch-meeting/
LOCATION:Waterloo Tea Gardens\, Wyndham Arcade\, The Hayes\, Cardiff\, CF10 1FH\, United Kingdom
END:VEVENT
END:VCALENDAR