BEGIN:VCALENDAR
VERSION:2.0
PRODID:-//Behçet&#039;s UK - ECPv6.15.20//NONSGML v1.0//EN
CALSCALE:GREGORIAN
METHOD:PUBLISH
X-WR-CALNAME:Behçet&#039;s UK
X-ORIGINAL-URL:https://behcetsuk.org
X-WR-CALDESC:Events for Behçet&#039;s UK
REFRESH-INTERVAL;VALUE=DURATION:PT1H
X-Robots-Tag:noindex
X-PUBLISHED-TTL:PT1H
BEGIN:VTIMEZONE
TZID:Europe/London
BEGIN:DAYLIGHT
TZOFFSETFROM:+0000
TZOFFSETTO:+0100
TZNAME:BST
DTSTART:20240331T010000
END:DAYLIGHT
BEGIN:STANDARD
TZOFFSETFROM:+0100
TZOFFSETTO:+0000
TZNAME:GMT
DTSTART:20241027T010000
END:STANDARD
BEGIN:DAYLIGHT
TZOFFSETFROM:+0000
TZOFFSETTO:+0100
TZNAME:BST
DTSTART:20250330T010000
END:DAYLIGHT
BEGIN:STANDARD
TZOFFSETFROM:+0100
TZOFFSETTO:+0000
TZNAME:GMT
DTSTART:20251026T010000
END:STANDARD
BEGIN:DAYLIGHT
TZOFFSETFROM:+0000
TZOFFSETTO:+0100
TZNAME:BST
DTSTART:20260329T010000
END:DAYLIGHT
BEGIN:STANDARD
TZOFFSETFROM:+0100
TZOFFSETTO:+0000
TZNAME:GMT
DTSTART:20261025T010000
END:STANDARD
END:VTIMEZONE
BEGIN:VEVENT
DTSTART;TZID=Europe/London:20250524T100000
DTEND;TZID=Europe/London:20250524T120000
DTSTAMP:20260420T150537
CREATED:20250501T123436Z
LAST-MODIFIED:20250501T123514Z
UID:20799-1748080800-1748088000@behcetsuk.org
SUMMARY:Wales Online Support Group Meeting
DESCRIPTION:Trustee Rachael Humphreys is hosting another Zoom support group meeting for those affected by Behçet’s in Wales on Saturday 24 May 2025 from 10am-12pm. \nIf you’d like to join the meeting\, please email Rachael via info@behcetsuk.org by 12pm midday on Friday 23 May. \nRead Rachael’s Behçet’s story in the ‘Your Behçet’s Stories’ series here.
URL:https://behcetsuk.org/event/wales-online-support-group-meeting-27/
END:VEVENT
BEGIN:VEVENT
DTSTART;TZID=Europe/London:20250524T130000
DTEND;TZID=Europe/London:20250524T130000
DTSTAMP:20260420T150537
CREATED:20250506T133115Z
LAST-MODIFIED:20250506T133414Z
UID:20827-1748091600-1748091600@behcetsuk.org
SUMMARY:Northern Ireland Support Group Lunch
DESCRIPTION:Trustee Fionnuala McKinley is hosting a support group lunch meeting on Saturday 24 May 2025 at 1pm at the Armagh City Hotel in Armagh\, for those affected by Behçet’s in Northern Ireland. \nIt is free to attend however you will need to buy your own food and drinks. \nIf you’d like to attend\, please email Fionnuala via info@behcetsuk.org by Wednesday 14 May 2025\, and please include your mobile number in case we need to get in touch with you on the day.
URL:https://behcetsuk.org/event/northern-ireland-support-group-lunch-2/
END:VEVENT
END:VCALENDAR