BEGIN:VCALENDAR
VERSION:2.0
PRODID:-//Behçet&#039;s UK - ECPv6.15.20//NONSGML v1.0//EN
CALSCALE:GREGORIAN
METHOD:PUBLISH
X-WR-CALNAME:Behçet&#039;s UK
X-ORIGINAL-URL:https://behcetsuk.org
X-WR-CALDESC:Events for Behçet&#039;s UK
REFRESH-INTERVAL;VALUE=DURATION:PT1H
X-Robots-Tag:noindex
X-PUBLISHED-TTL:PT1H
BEGIN:VTIMEZONE
TZID:Europe/London
BEGIN:DAYLIGHT
TZOFFSETFROM:+0000
TZOFFSETTO:+0100
TZNAME:BST
DTSTART:20230326T010000
END:DAYLIGHT
BEGIN:STANDARD
TZOFFSETFROM:+0100
TZOFFSETTO:+0000
TZNAME:GMT
DTSTART:20231029T010000
END:STANDARD
BEGIN:DAYLIGHT
TZOFFSETFROM:+0000
TZOFFSETTO:+0100
TZNAME:BST
DTSTART:20240331T010000
END:DAYLIGHT
BEGIN:STANDARD
TZOFFSETFROM:+0100
TZOFFSETTO:+0000
TZNAME:GMT
DTSTART:20241027T010000
END:STANDARD
BEGIN:DAYLIGHT
TZOFFSETFROM:+0000
TZOFFSETTO:+0100
TZNAME:BST
DTSTART:20250330T010000
END:DAYLIGHT
BEGIN:STANDARD
TZOFFSETFROM:+0100
TZOFFSETTO:+0000
TZNAME:GMT
DTSTART:20251026T010000
END:STANDARD
END:VTIMEZONE
BEGIN:VEVENT
DTSTART;TZID=Europe/London:20241019T093000
DTEND;TZID=Europe/London:20241019T163000
DTSTAMP:20260421T024336
CREATED:20240403T105104Z
LAST-MODIFIED:20240403T105104Z
UID:18718-1729330200-1729355400@behcetsuk.org
SUMMARY:Behçet's UK Annual Conference & AGM 2024
DESCRIPTION:We are pleased to confirm that the 2024 Conference and AGM will be held on Saturday 19 October 2024 and will be a hybrid conference. Attend in person at the Holiday Inn Liverpool City Centre or join us online by Zoom Webinar. \nClick here to find out more and register today
URL:https://behcetsuk.org/event/behcets-uk-annual-conference-agm-2024/
LOCATION:Holiday Inn Liverpool City Centre\, Lime St\, Liverpool\, L1 1NQ
CATEGORIES:Conferences
ORGANIZER;CN="Beh%C3%A7et's UK":MAILTO:info@behcetsuk.org
END:VEVENT
BEGIN:VEVENT
DTSTART;TZID=Europe/London:20241026T103000
DTEND;TZID=Europe/London:20241026T120000
DTSTAMP:20260421T024336
CREATED:20241001T150154Z
LAST-MODIFIED:20241001T150154Z
UID:19534-1729938600-1729944000@behcetsuk.org
SUMMARY:Wales Online Support Group Meeting
DESCRIPTION:Trustee Rachael Humphreys is hosting another Zoom support group meeting for those affected by Behçet’s in Wales on Saturday 26 October 2024 from the slightly later than usual time of 10:30am-12pm. \nIf you’d like to join the meeting\, please email Rachael via info@behcetsuk.org by 12pm midday on Friday 25 October. \nRead Rachael’s Behçet’s story in our ‘Your Behçet’s Stories’ series here.
URL:https://behcetsuk.org/event/wales-online-support-group-meeting-22/
END:VEVENT
END:VCALENDAR