BEGIN:VCALENDAR
VERSION:2.0
PRODID:-//Behçet&#039;s UK - ECPv6.15.20//NONSGML v1.0//EN
CALSCALE:GREGORIAN
METHOD:PUBLISH
X-ORIGINAL-URL:https://behcetsuk.org
X-WR-CALDESC:Events for Behçet&#039;s UK
REFRESH-INTERVAL;VALUE=DURATION:PT1H
X-Robots-Tag:noindex
X-PUBLISHED-TTL:PT1H
BEGIN:VTIMEZONE
TZID:Europe/London
BEGIN:DAYLIGHT
TZOFFSETFROM:+0000
TZOFFSETTO:+0100
TZNAME:BST
DTSTART:20230326T010000
END:DAYLIGHT
BEGIN:STANDARD
TZOFFSETFROM:+0100
TZOFFSETTO:+0000
TZNAME:GMT
DTSTART:20231029T010000
END:STANDARD
BEGIN:DAYLIGHT
TZOFFSETFROM:+0000
TZOFFSETTO:+0100
TZNAME:BST
DTSTART:20240331T010000
END:DAYLIGHT
BEGIN:STANDARD
TZOFFSETFROM:+0100
TZOFFSETTO:+0000
TZNAME:GMT
DTSTART:20241027T010000
END:STANDARD
BEGIN:DAYLIGHT
TZOFFSETFROM:+0000
TZOFFSETTO:+0100
TZNAME:BST
DTSTART:20250330T010000
END:DAYLIGHT
BEGIN:STANDARD
TZOFFSETFROM:+0100
TZOFFSETTO:+0000
TZNAME:GMT
DTSTART:20251026T010000
END:STANDARD
END:VTIMEZONE
BEGIN:VEVENT
DTSTART;TZID=Europe/London:20240521T193000
DTEND;TZID=Europe/London:20240521T210000
DTSTAMP:20260421T113533
CREATED:20240510T140523Z
LAST-MODIFIED:20240510T145349Z
UID:18245-1716319800-1716325200@behcetsuk.org
SUMMARY:England Online Support Group Meeting
DESCRIPTION:Volunteer Clare Gibson is hosting another online support group on Zoom on Tuesday 21 May from 7.30pm-9:00pm for any Behçet’s patients (diagnosed or awaiting diagnosis) in England. \nIf you are interested in joining or wish to know more\, please get in touch with Clare via info@behcetsuk.org \nYou can read about Clare and her Behçet’s story here.
URL:https://behcetsuk.org/event/england-online-support-group-meeting-12/
LOCATION:Online
CATEGORIES:Behçet's Support Groups
END:VEVENT
END:VCALENDAR