BEGIN:VCALENDAR
VERSION:2.0
PRODID:-//Behçet&#039;s UK - ECPv6.15.20//NONSGML v1.0//EN
CALSCALE:GREGORIAN
METHOD:PUBLISH
X-WR-CALNAME:Behçet&#039;s UK
X-ORIGINAL-URL:https://behcetsuk.org
X-WR-CALDESC:Events for Behçet&#039;s UK
REFRESH-INTERVAL;VALUE=DURATION:PT1H
X-Robots-Tag:noindex
X-PUBLISHED-TTL:PT1H
BEGIN:VTIMEZONE
TZID:Europe/London
BEGIN:DAYLIGHT
TZOFFSETFROM:+0000
TZOFFSETTO:+0100
TZNAME:BST
DTSTART:20230326T010000
END:DAYLIGHT
BEGIN:STANDARD
TZOFFSETFROM:+0100
TZOFFSETTO:+0000
TZNAME:GMT
DTSTART:20231029T010000
END:STANDARD
BEGIN:DAYLIGHT
TZOFFSETFROM:+0000
TZOFFSETTO:+0100
TZNAME:BST
DTSTART:20240331T010000
END:DAYLIGHT
BEGIN:STANDARD
TZOFFSETFROM:+0100
TZOFFSETTO:+0000
TZNAME:GMT
DTSTART:20241027T010000
END:STANDARD
BEGIN:DAYLIGHT
TZOFFSETFROM:+0000
TZOFFSETTO:+0100
TZNAME:BST
DTSTART:20250330T010000
END:DAYLIGHT
BEGIN:STANDARD
TZOFFSETFROM:+0100
TZOFFSETTO:+0000
TZNAME:GMT
DTSTART:20251026T010000
END:STANDARD
END:VTIMEZONE
BEGIN:VEVENT
DTSTART;TZID=Europe/London:20240306T193000
DTEND;TZID=Europe/London:20240306T210000
DTSTAMP:20260421T150636
CREATED:20240220T133644Z
LAST-MODIFIED:20240306T132333Z
UID:18524-1709753400-1709758800@behcetsuk.org
SUMMARY:CANCELLED - England Online Support Group Meeting
DESCRIPTION:Unfortunately\, due to unforeseen circumstances we have got to postpone the England support group meeting that was due to take place this evening\, Wednesday 6 March 2024.\n\n\n\nWe are very sorry for any disappointment.\n\n\n\nWe will reschedule the meeting for as soon as possible. The new date will be announced via the mailing list\, and on our website and social media. To join the mailing list to be notified of all future England support group meetings\, please email info@behcetuk.org
URL:https://behcetsuk.org/event/england-online-support-group-meeting-13/
END:VEVENT
BEGIN:VEVENT
DTSTART;TZID=Europe/London:20240323T100000
DTEND;TZID=Europe/London:20240323T120000
DTSTAMP:20260421T150636
CREATED:20240229T101832Z
LAST-MODIFIED:20240319T203315Z
UID:18560-1711188000-1711195200@behcetsuk.org
SUMMARY:Wales Online Support Group Meeting
DESCRIPTION:Trustee Rachael Humphreys is hosting another Zoom support group meeting for those affected by Behçet’s in Wales on Saturday 23 March 2024 from 10am-12pm. \nIf you’d like to join the meeting\, please email Rachael via info@behcetsuk.org by 12pm midday on Friday 22 March. \nRead Rachael’s Behçet’s story in our ‘Your Behçet’s Stories’ series here.
URL:https://behcetsuk.org/event/wales-online-support-group-meeting-17/
CATEGORIES:Behçet's Support Groups
END:VEVENT
BEGIN:VEVENT
DTSTART;TZID=Europe/London:20240328T190000
DTEND;TZID=Europe/London:20240328T203000
DTSTAMP:20260421T150636
CREATED:20240319T202138Z
LAST-MODIFIED:20240320T114444Z
UID:18713-1711652400-1711657800@behcetsuk.org
SUMMARY:Northern Ireland Online Support Group Meeting
DESCRIPTION:Trustee Fionnuala McKinley is hosting another online support group meeting on Thursday 28 March 2024 from 7pm – 8:30pm via Zoom. Anyone affected by Behçet’s in Northern Ireland is welcome to join the meeting. \nIf you would like to join the meeting or have any queries\, please contact Fionnuala at fionnuala.mckinley@behcetsuk.org
URL:https://behcetsuk.org/event/northern-ireland-online-support-group-meeting-7/
LOCATION:Online
CATEGORIES:Behçet's Support Groups
END:VEVENT
END:VCALENDAR