BEGIN:VCALENDAR
VERSION:2.0
PRODID:-//Behçet&#039;s UK - ECPv6.15.20//NONSGML v1.0//EN
CALSCALE:GREGORIAN
METHOD:PUBLISH
X-ORIGINAL-URL:https://behcetsuk.org
X-WR-CALDESC:Events for Behçet&#039;s UK
REFRESH-INTERVAL;VALUE=DURATION:PT1H
X-Robots-Tag:noindex
X-PUBLISHED-TTL:PT1H
BEGIN:VTIMEZONE
TZID:Europe/London
BEGIN:DAYLIGHT
TZOFFSETFROM:+0000
TZOFFSETTO:+0100
TZNAME:BST
DTSTART:20220327T010000
END:DAYLIGHT
BEGIN:STANDARD
TZOFFSETFROM:+0100
TZOFFSETTO:+0000
TZNAME:GMT
DTSTART:20221030T010000
END:STANDARD
BEGIN:DAYLIGHT
TZOFFSETFROM:+0000
TZOFFSETTO:+0100
TZNAME:BST
DTSTART:20230326T010000
END:DAYLIGHT
BEGIN:STANDARD
TZOFFSETFROM:+0100
TZOFFSETTO:+0000
TZNAME:GMT
DTSTART:20231029T010000
END:STANDARD
BEGIN:DAYLIGHT
TZOFFSETFROM:+0000
TZOFFSETTO:+0100
TZNAME:BST
DTSTART:20240331T010000
END:DAYLIGHT
BEGIN:STANDARD
TZOFFSETFROM:+0100
TZOFFSETTO:+0000
TZNAME:GMT
DTSTART:20241027T010000
END:STANDARD
END:VTIMEZONE
BEGIN:VEVENT
DTSTART;VALUE=DATE:20230101
DTEND;VALUE=DATE:20240101
DTSTAMP:20260421T230237
CREATED:20230228T155205Z
LAST-MODIFIED:20230228T155205Z
UID:16772-1672531200-1704067199@behcetsuk.org
SUMMARY:Life Begins at 40!
DESCRIPTION:Why not tick something off your bucket list this year in aid of Behçet’s UK?\nAnything goes\, from a daredevil activity\, such as a bungee jump\, a sponsored run beit a 5k run or a 26 mile marathon to 2023 being the year you set up a book club\, a choir or sell your handmade crafts with a share of subs or sales going to Behçet’s UK. \nIf you don’t have a bucket list yet there is still plenty of time before the end of the year and we have a few ideas on our event page. \nClick here for more ideas and register
URL:https://behcetsuk.org/event/life-begins-at-40/
ORGANIZER;CN="Beh%C3%A7et's UK":MAILTO:info@behcetsuk.org
END:VEVENT
BEGIN:VEVENT
DTSTART;TZID=Europe/London:20231101T193000
DTEND;TZID=Europe/London:20231101T193000
DTSTAMP:20260421T230237
CREATED:20231025T091819Z
LAST-MODIFIED:20231025T091819Z
UID:17934-1698867000-1698867000@behcetsuk.org
SUMMARY:Northern Ireland Online Support Group Meeting
DESCRIPTION:Trustee Fionnuala McKinley is hosting another online support group meeting on Wednesday 1 November 2023 at 7:30pm via Zoom. Anyone affected by Behçet’s in Northern Ireland is welcome to join the meeting. \nIf you would like to join the meeting or have any queries\, please contact Fionnuala at fionnuala.mckinley@behcetsuk.org
URL:https://behcetsuk.org/event/northern-ireland-online-support-group-meeting-5/
END:VEVENT
BEGIN:VEVENT
DTSTART;TZID=Europe/London:20231118T100000
DTEND;TZID=Europe/London:20231118T120000
DTSTAMP:20260421T230237
CREATED:20231019T142251Z
LAST-MODIFIED:20231019T142251Z
UID:17875-1700301600-1700308800@behcetsuk.org
SUMMARY:Wales Online Support Group Meeting
DESCRIPTION:Trustee Rachael Humphreys is hosting another Zoom support group meeting for those affected by Behçet’s in Wales on Saturday 18 November 2023 at 10am. \nIf you’d like to join the meeting\, please email Rachael via info@behcetsuk.org by 12pm midday on Friday 17 November. \nRead Rachael’s Behçet’s story in our ‘Your Behçet’s Stories’ series here.
URL:https://behcetsuk.org/event/wales-online-support-group-meeting-14/
END:VEVENT
BEGIN:VEVENT
DTSTART;TZID=Europe/London:20231121T190000
DTEND;TZID=Europe/London:20231121T210000
DTSTAMP:20260421T230237
CREATED:20231113T140901Z
LAST-MODIFIED:20231113T140901Z
UID:18138-1700593200-1700600400@behcetsuk.org
SUMMARY:England Online Support Group Meeting
DESCRIPTION:Volunteer Clare Gibson is hosting another online support group on Zoom on Tuesday 21 November at 7.00pm for any Behçet’s patients (diagnosed or awaiting diagnosis) in England. \nIf you are interested in joining or wish to know more\, please get in touch with Clare via info@behcetsuk.org \nYou can read about Clare and her Behçet’s story here.
URL:https://behcetsuk.org/event/england-online-support-group-meeting-11/
END:VEVENT
END:VCALENDAR