BEGIN:VCALENDAR
VERSION:2.0
PRODID:-//Behçet&#039;s UK - ECPv6.15.20//NONSGML v1.0//EN
CALSCALE:GREGORIAN
METHOD:PUBLISH
X-ORIGINAL-URL:https://behcetsuk.org
X-WR-CALDESC:Events for Behçet&#039;s UK
REFRESH-INTERVAL;VALUE=DURATION:PT1H
X-Robots-Tag:noindex
X-PUBLISHED-TTL:PT1H
BEGIN:VTIMEZONE
TZID:Europe/London
BEGIN:DAYLIGHT
TZOFFSETFROM:+0000
TZOFFSETTO:+0100
TZNAME:BST
DTSTART:20220327T010000
END:DAYLIGHT
BEGIN:STANDARD
TZOFFSETFROM:+0100
TZOFFSETTO:+0000
TZNAME:GMT
DTSTART:20221030T010000
END:STANDARD
BEGIN:DAYLIGHT
TZOFFSETFROM:+0000
TZOFFSETTO:+0100
TZNAME:BST
DTSTART:20230326T010000
END:DAYLIGHT
BEGIN:STANDARD
TZOFFSETFROM:+0100
TZOFFSETTO:+0000
TZNAME:GMT
DTSTART:20231029T010000
END:STANDARD
BEGIN:DAYLIGHT
TZOFFSETFROM:+0000
TZOFFSETTO:+0100
TZNAME:BST
DTSTART:20240331T010000
END:DAYLIGHT
BEGIN:STANDARD
TZOFFSETFROM:+0100
TZOFFSETTO:+0000
TZNAME:GMT
DTSTART:20241027T010000
END:STANDARD
END:VTIMEZONE
BEGIN:VEVENT
DTSTART;VALUE=DATE:20230101
DTEND;VALUE=DATE:20240101
DTSTAMP:20260422T033536
CREATED:20230228T155205Z
LAST-MODIFIED:20230228T155205Z
UID:16772-1672531200-1704067199@behcetsuk.org
SUMMARY:Life Begins at 40!
DESCRIPTION:Why not tick something off your bucket list this year in aid of Behçet’s UK?\nAnything goes\, from a daredevil activity\, such as a bungee jump\, a sponsored run beit a 5k run or a 26 mile marathon to 2023 being the year you set up a book club\, a choir or sell your handmade crafts with a share of subs or sales going to Behçet’s UK. \nIf you don’t have a bucket list yet there is still plenty of time before the end of the year and we have a few ideas on our event page. \nClick here for more ideas and register
URL:https://behcetsuk.org/event/life-begins-at-40/
ORGANIZER;CN="Beh%C3%A7et's UK":MAILTO:info@behcetsuk.org
END:VEVENT
BEGIN:VEVENT
DTSTART;VALUE=DATE:20230909
DTEND;VALUE=DATE:20230910
DTSTAMP:20260422T033536
CREATED:20230626T141111Z
LAST-MODIFIED:20230809T135318Z
UID:17332-1694217600-1694303999@behcetsuk.org
SUMMARY:Behçet's UK Friends and Family Day Scotland 2023
DESCRIPTION:This September we are heading to Pinkston Watersports for a FREE day fo fun for Behçet’s UK members. \nFind out more and register
URL:https://behcetsuk.org/event/behcets-uk-friends-and-family-day-scotland-2023/
LOCATION:Pinkston Watersports\, Glasgow
ORGANIZER;CN="Beh%C3%A7et's UK":MAILTO:info@behcetsuk.org
END:VEVENT
BEGIN:VEVENT
DTSTART;TZID=Europe/London:20230926T190000
DTEND;TZID=Europe/London:20230926T210000
DTSTAMP:20260422T033536
CREATED:20230914T150040Z
LAST-MODIFIED:20230914T150040Z
UID:17659-1695754800-1695762000@behcetsuk.org
SUMMARY:England Online Support Group Meeting
DESCRIPTION:Volunteer Clare Gibson is hosting another online support group on Zoom on Tuesday 26 September at 7.00pm for any Behçet’s patients (diagnosed or awaiting diagnosis) in England. \nIf you are interested in joining or wish to know more\, please get in touch with Clare via info@behcetsuk.org \nYou can read about Clare and her Behçet’s story here.
URL:https://behcetsuk.org/event/england-online-support-group-meeting-10/
END:VEVENT
END:VCALENDAR