BEGIN:VCALENDAR
VERSION:2.0
PRODID:-//Behçet&#039;s UK - ECPv6.15.20//NONSGML v1.0//EN
CALSCALE:GREGORIAN
METHOD:PUBLISH
X-ORIGINAL-URL:https://behcetsuk.org
X-WR-CALDESC:Events for Behçet&#039;s UK
REFRESH-INTERVAL;VALUE=DURATION:PT1H
X-Robots-Tag:noindex
X-PUBLISHED-TTL:PT1H
BEGIN:VTIMEZONE
TZID:Europe/London
BEGIN:DAYLIGHT
TZOFFSETFROM:+0000
TZOFFSETTO:+0100
TZNAME:BST
DTSTART:20210328T010000
END:DAYLIGHT
BEGIN:STANDARD
TZOFFSETFROM:+0100
TZOFFSETTO:+0000
TZNAME:GMT
DTSTART:20211031T010000
END:STANDARD
BEGIN:DAYLIGHT
TZOFFSETFROM:+0000
TZOFFSETTO:+0100
TZNAME:BST
DTSTART:20220327T010000
END:DAYLIGHT
BEGIN:STANDARD
TZOFFSETFROM:+0100
TZOFFSETTO:+0000
TZNAME:GMT
DTSTART:20221030T010000
END:STANDARD
BEGIN:DAYLIGHT
TZOFFSETFROM:+0000
TZOFFSETTO:+0100
TZNAME:BST
DTSTART:20230326T010000
END:DAYLIGHT
BEGIN:STANDARD
TZOFFSETFROM:+0100
TZOFFSETTO:+0000
TZNAME:GMT
DTSTART:20231029T010000
END:STANDARD
END:VTIMEZONE
BEGIN:VEVENT
DTSTART;TZID=Europe/London:20221217T100000
DTEND;TZID=Europe/London:20221217T120000
DTSTAMP:20260422T201144
CREATED:20221206T104914Z
LAST-MODIFIED:20221206T105115Z
UID:15916-1671271200-1671278400@behcetsuk.org
SUMMARY:Wales Online Support Group Meeting - Christmas Catch Up
DESCRIPTION:Trustee Rachael Humphreys is hosting another Zoom support group meeting for those affected by Behçet’s in Wales on Saturday 17 December 2022 at 10am. Wear your Christmas Jumper\, bring a hot chocolate and a mince pie and join Rachael for the last support group of 2022! \nIf you’d like to join the meeting\, please email Rachael via info@behcetsuk.org by 12pm midday on Friday 16 December. \nRead Rachael’s Behçet’s story in our ‘Your Behçet’s Stories’ series here.
URL:https://behcetsuk.org/event/wales-online-support-group-meeting-christmas-catch-up/
END:VEVENT
END:VCALENDAR