BEGIN:VCALENDAR
VERSION:2.0
PRODID:-//Behçet&#039;s UK - ECPv6.15.20//NONSGML v1.0//EN
CALSCALE:GREGORIAN
METHOD:PUBLISH
X-ORIGINAL-URL:https://behcetsuk.org
X-WR-CALDESC:Events for Behçet&#039;s UK
REFRESH-INTERVAL;VALUE=DURATION:PT1H
X-Robots-Tag:noindex
X-PUBLISHED-TTL:PT1H
BEGIN:VTIMEZONE
TZID:Europe/London
BEGIN:DAYLIGHT
TZOFFSETFROM:+0000
TZOFFSETTO:+0100
TZNAME:BST
DTSTART:20210328T010000
END:DAYLIGHT
BEGIN:STANDARD
TZOFFSETFROM:+0100
TZOFFSETTO:+0000
TZNAME:GMT
DTSTART:20211031T010000
END:STANDARD
BEGIN:DAYLIGHT
TZOFFSETFROM:+0000
TZOFFSETTO:+0100
TZNAME:BST
DTSTART:20220327T010000
END:DAYLIGHT
BEGIN:STANDARD
TZOFFSETFROM:+0100
TZOFFSETTO:+0000
TZNAME:GMT
DTSTART:20221030T010000
END:STANDARD
BEGIN:DAYLIGHT
TZOFFSETFROM:+0000
TZOFFSETTO:+0100
TZNAME:BST
DTSTART:20230326T010000
END:DAYLIGHT
BEGIN:STANDARD
TZOFFSETFROM:+0100
TZOFFSETTO:+0000
TZNAME:GMT
DTSTART:20231029T010000
END:STANDARD
END:VTIMEZONE
BEGIN:VEVENT
DTSTART;TZID=Europe/London:20221015T093000
DTEND;TZID=Europe/London:20221015T163000
DTSTAMP:20260423T010607
CREATED:20220404T152733Z
LAST-MODIFIED:20230210T130134Z
UID:14929-1665826200-1665851400@behcetsuk.org
SUMMARY:Behçet's UK 2022 Conference & AGM
DESCRIPTION:We are pleased to confirm that our 2022 Conference & AGM will be held on Saturday 15 October 2022. \nClick here to find out more\, including how to register
URL:https://behcetsuk.org/event/behcets-uk-2022-conference-agm/
LOCATION:Holiday Inn\, Stevenage\, St.George's Way\, Stevenage\, SG1 1HS
END:VEVENT
BEGIN:VEVENT
DTSTART;TZID=Europe/London:20221022T100000
DTEND;TZID=Europe/London:20221022T120000
DTSTAMP:20260423T010607
CREATED:20220921T084112Z
LAST-MODIFIED:20220921T084112Z
UID:15449-1666432800-1666440000@behcetsuk.org
SUMMARY:Wales Online Support Group Meeting
DESCRIPTION:Trustee Rachael Humphreys is hosting another Zoom support group meeting for those affected by Behçet’s in Wales on Saturday 22 October 2022 at 10am. \nIf you’d like to join the meeting\, please email Rachael via info@behcetsuk.org by 12pm midday on Friday 21 October. \nRead Rachael’s Behçet’s story in our ‘Your Behçet’s Stories’ series here.
URL:https://behcetsuk.org/event/wales-online-support-group-meeting-6/
END:VEVENT
BEGIN:VEVENT
DTSTART;TZID=Europe/London:20221026T193000
DTEND;TZID=Europe/London:20221026T210000
DTSTAMP:20260423T010607
CREATED:20221017T204058Z
LAST-MODIFIED:20221017T204253Z
UID:15590-1666812600-1666818000@behcetsuk.org
SUMMARY:England Online Support Group Meeting
DESCRIPTION:Volunteer Clare Gibson is hosting another online support group on Zoom on Wednesday 26 October 2022 at 7:30pm for any Behçet’s patients (diagnosed or awaiting diagnosis) in England. \nIf you are interested in joining or wish to know more\, please get in touch with Clare via info@behcetsuk.org \nYou can read about Clare and her Behçet’s story here.
URL:https://behcetsuk.org/event/england-online-support-group-meeting-7/
LOCATION:Online
ORGANIZER;CN="Beh%C3%A7et's UK":MAILTO:info@behcetsuk.org
END:VEVENT
END:VCALENDAR