BEGIN:VCALENDAR
VERSION:2.0
PRODID:-//Behçet&#039;s UK - ECPv6.15.20//NONSGML v1.0//EN
CALSCALE:GREGORIAN
METHOD:PUBLISH
X-WR-CALNAME:Behçet&#039;s UK
X-ORIGINAL-URL:https://behcetsuk.org
X-WR-CALDESC:Events for Behçet&#039;s UK
REFRESH-INTERVAL;VALUE=DURATION:PT1H
X-Robots-Tag:noindex
X-PUBLISHED-TTL:PT1H
BEGIN:VTIMEZONE
TZID:Europe/London
BEGIN:DAYLIGHT
TZOFFSETFROM:+0000
TZOFFSETTO:+0100
TZNAME:BST
DTSTART:20210328T010000
END:DAYLIGHT
BEGIN:STANDARD
TZOFFSETFROM:+0100
TZOFFSETTO:+0000
TZNAME:GMT
DTSTART:20211031T010000
END:STANDARD
BEGIN:DAYLIGHT
TZOFFSETFROM:+0000
TZOFFSETTO:+0100
TZNAME:BST
DTSTART:20220327T010000
END:DAYLIGHT
BEGIN:STANDARD
TZOFFSETFROM:+0100
TZOFFSETTO:+0000
TZNAME:GMT
DTSTART:20221030T010000
END:STANDARD
BEGIN:DAYLIGHT
TZOFFSETFROM:+0000
TZOFFSETTO:+0100
TZNAME:BST
DTSTART:20230326T010000
END:DAYLIGHT
BEGIN:STANDARD
TZOFFSETFROM:+0100
TZOFFSETTO:+0000
TZNAME:GMT
DTSTART:20231029T010000
END:STANDARD
END:VTIMEZONE
BEGIN:VEVENT
DTSTART;TZID=Europe/London:20220618T103000
DTEND;TZID=Europe/London:20220618T103000
DTSTAMP:20260423T073819
CREATED:20220531T142225Z
LAST-MODIFIED:20220531T142225Z
UID:15118-1655548200-1655548200@behcetsuk.org
SUMMARY:Wales Online Support Group Meeting
DESCRIPTION:Trustee Rachael Humphreys is hosting another Zoom support group meeting for those affected by Behçet’s in Wales on Saturday 18 June 2022 at 10.30am. \nIf you’d like to join the meeting\, please email Rachael via info@behcetsuk.org by 12pm midday on Friday 17 June. \nRead Rachael’s Behçet’s story in our ‘Your Behçet’s Stories’ series here.
URL:https://behcetsuk.org/event/wales-online-support-group-meeting-5/
END:VEVENT
BEGIN:VEVENT
DTSTART;VALUE=DATE:20220625
DTEND;VALUE=DATE:20220626
DTSTAMP:20260423T073819
CREATED:20211220T114922Z
LAST-MODIFIED:20211220T115016Z
UID:14512-1656115200-1656201599@behcetsuk.org
SUMMARY:Behçet's UK Friends & Family Day 2022
DESCRIPTION:After having to postpone our event in 2020 and 2021\, we are very excited to announce that our fifth Behçet’s UK Friends and Family Day will now be held on Saturday 25 June 2022 at Peak Underbank Activity Centre in Stocksbridge\, South Yorkshire.  The centre is located 40 minutes north of Sheffield\, 45 minutes from Leeds and an hour from Manchester so we hope this location will be ideal for many of our members. \nClick here to find out more including how to book
URL:https://behcetsuk.org/event/behcets-uk-friends-family-day-2022/
LOCATION:Underbank Activity Centre\, Oaks Ln\, Stocksbridge\, S36 4GH\, United Kingdom
ORGANIZER;CN="Beh%C3%A7et's UK":MAILTO:info@behcetsuk.org
END:VEVENT
BEGIN:VEVENT
DTSTART;TZID=Europe/London:20220627T193000
DTEND;TZID=Europe/London:20220627T193000
DTSTAMP:20260423T073819
CREATED:20220614T120746Z
LAST-MODIFIED:20220614T120746Z
UID:15141-1656358200-1656358200@behcetsuk.org
SUMMARY:England Online Support Group Meeting
DESCRIPTION:Volunteer Clare Gibson is hosting another online support group on Zoom on Monday 27 June 2022 at 7:30pm for any Behçet’s patients (diagnosed or awaiting diagnosis) in England. \nIf you are interested in joining or wish to know more\, please get in touch with Clare via info@behcetsuk.org \nYou can read about Clare and her Behçet’s story here.
URL:https://behcetsuk.org/event/england-online-support-group-meeting-6/
END:VEVENT
END:VCALENDAR