BEGIN:VCALENDAR
VERSION:2.0
PRODID:-//Behçet&#039;s UK - ECPv6.15.20//NONSGML v1.0//EN
CALSCALE:GREGORIAN
METHOD:PUBLISH
X-ORIGINAL-URL:https://behcetsuk.org
X-WR-CALDESC:Events for Behçet&#039;s UK
REFRESH-INTERVAL;VALUE=DURATION:PT1H
X-Robots-Tag:noindex
X-PUBLISHED-TTL:PT1H
BEGIN:VTIMEZONE
TZID:Europe/London
BEGIN:DAYLIGHT
TZOFFSETFROM:+0000
TZOFFSETTO:+0100
TZNAME:BST
DTSTART:20250330T010000
END:DAYLIGHT
BEGIN:STANDARD
TZOFFSETFROM:+0100
TZOFFSETTO:+0000
TZNAME:GMT
DTSTART:20251026T010000
END:STANDARD
BEGIN:DAYLIGHT
TZOFFSETFROM:+0000
TZOFFSETTO:+0100
TZNAME:BST
DTSTART:20260329T010000
END:DAYLIGHT
BEGIN:STANDARD
TZOFFSETFROM:+0100
TZOFFSETTO:+0000
TZNAME:GMT
DTSTART:20261025T010000
END:STANDARD
BEGIN:DAYLIGHT
TZOFFSETFROM:+0000
TZOFFSETTO:+0100
TZNAME:BST
DTSTART:20270328T010000
END:DAYLIGHT
BEGIN:STANDARD
TZOFFSETFROM:+0100
TZOFFSETTO:+0000
TZNAME:GMT
DTSTART:20271031T010000
END:STANDARD
END:VTIMEZONE
BEGIN:VEVENT
DTSTART;TZID=Europe/London:20260429T120000
DTEND;TZID=Europe/London:20260429T133000
DTSTAMP:20260419T180627
CREATED:20260415T101757Z
LAST-MODIFIED:20260415T124528Z
UID:22344-1777464000-1777469400@behcetsuk.org
SUMMARY:England Online Support Group Meeting (Lunchtime)
DESCRIPTION:Volunteer Sarah McAllister is hosting another online LUNCHTIME support group on Zoom on Wednesday 29 April 2026\, from 12.00 pm (midday) – 1.30 pm for anyone aged 18 or over living in England who is affected by Behçet’s. \n\n\nMeeting topic: General Meeting\nHow to join\n\n\n\nIf you are interested in joining this meeting\, and if you’re not yet on the group mailing list\, please visit our Behçet’s Support Group page and complete the online registration form by 9:30 am on Wednesday 29 April 2026. \nIf you are unable to attend this meeting but would like to receive invitations to future meetings\, please complete the online registration form at any time. \nGroup Guidelines \nTo help make the group a safe and supportive space for everyone\, we encourage you to take a few minutes to read our Support Group Guidelines before the meeting.  They cover group boundaries\, participation\, online etiquette\, and how to get additional support if needed. \nFrequently Asked Questions\nIf you’d like to learn more about our support groups\, please view our Frequently Asked Questions.  If you have any other questions\, please feel free to email us at info@behcetsuk.org \nRemember\nBehçet’s Support Groups are run by volunteers with personal experience of Behçet’s or long-term involvement in the Behçet’s community. While Behçet’s UK and our volunteers cannot provide medical advice\, we can guide you to reliable information. Hearing about what has worked for others can also support your conversations with your own healthcare team. \nOur groups offer peer support – stories and tips shared in the groups reflect individual experiences. What works\, or doesn’t work\, for one person may not be the same for others. You must never delay seeking medical advice\, ignore professional guidance\, or stop/change your treatment based on information shared in support group meetings.
URL:https://behcetsuk.org/event/england-online-support-group-meeting-lunchtime-5/
CATEGORIES:Behçet's Support Groups
END:VEVENT
END:VCALENDAR