BEGIN:VCALENDAR
VERSION:2.0
PRODID:-//Behçet&#039;s UK - ECPv6.15.20//NONSGML v1.0//EN
CALSCALE:GREGORIAN
METHOD:PUBLISH
X-WR-CALNAME:Behçet&#039;s UK
X-ORIGINAL-URL:https://behcetsuk.org
X-WR-CALDESC:Events for Behçet&#039;s UK
REFRESH-INTERVAL;VALUE=DURATION:PT1H
X-Robots-Tag:noindex
X-PUBLISHED-TTL:PT1H
BEGIN:VTIMEZONE
TZID:Europe/London
BEGIN:DAYLIGHT
TZOFFSETFROM:+0000
TZOFFSETTO:+0100
TZNAME:BST
DTSTART:20250330T010000
END:DAYLIGHT
BEGIN:STANDARD
TZOFFSETFROM:+0100
TZOFFSETTO:+0000
TZNAME:GMT
DTSTART:20251026T010000
END:STANDARD
BEGIN:DAYLIGHT
TZOFFSETFROM:+0000
TZOFFSETTO:+0100
TZNAME:BST
DTSTART:20260329T010000
END:DAYLIGHT
BEGIN:STANDARD
TZOFFSETFROM:+0100
TZOFFSETTO:+0000
TZNAME:GMT
DTSTART:20261025T010000
END:STANDARD
BEGIN:DAYLIGHT
TZOFFSETFROM:+0000
TZOFFSETTO:+0100
TZNAME:BST
DTSTART:20270328T010000
END:DAYLIGHT
BEGIN:STANDARD
TZOFFSETFROM:+0100
TZOFFSETTO:+0000
TZNAME:GMT
DTSTART:20271031T010000
END:STANDARD
END:VTIMEZONE
BEGIN:VEVENT
DTSTART;TZID=Europe/London:20260209T120000
DTEND;TZID=Europe/London:20260209T133000
DTSTAMP:20260420T005614
CREATED:20260127T193046Z
LAST-MODIFIED:20260127T143354Z
UID:22053-1770638400-1770643800@behcetsuk.org
SUMMARY:England Online Support Group Meeting (Lunchtime)
DESCRIPTION:Volunteer Sarah McAllister is hosting another online LUNCHTIME support group on Zoom on Monday 9 February 2026\, from 12.00 pm (midday) – 1.30 pm for anyone aged 18 or over living in England who is affected by Behçet’s. \n\n\nMeeting topic: General Support\nThis session will be a general support group meeting\, where everyone can chat and ask questions. Sarah will guide the discussion based on your input. \nHow to join\n\n\n\nIf you are interested in joining this meeting\, please visit our Behçet’s Support Group page and complete the online registration form by 11:00 am on Monday 9 February 2026. \nIf you are unable to attend this meeting but would like to receive invitations to future meetings\, please complete the online registration form at any time. \nFrequently Asked Questions\nIf you’d like to learn more about our support groups\, please view our Frequently Asked Questions.  If you have any other questions\, please feel free to email us at info@behcetsuk.org \nRemember\nBehçet’s Support Groups are run by volunteers with personal experience of Behçet’s or long-term involvement in the Behçet’s community. While Behçet’s UK and our volunteers cannot provide medical advice\, we can guide you to reliable information. Hearing about what has worked for others can also support your conversations with your own healthcare team. \nOur groups offer peer support – stories and tips shared in the groups reflect individual experiences. What works\, or doesn’t work\, for one person may not be the same for others. You must never delay seeking medical advice\, ignore professional guidance\, or stop/change your treatment based on information shared in support group meetings.
URL:https://behcetsuk.org/event/england-online-support-group-meeting-lunchtime-3/
LOCATION:Online
CATEGORIES:Behçet's Support Groups
ORGANIZER;CN="Beh%C3%A7et's UK":MAILTO:info@behcetsuk.org
END:VEVENT
BEGIN:VEVENT
DTSTART;TZID=Europe/London:20260209T190000
DTEND;TZID=Europe/London:20260209T203000
DTSTAMP:20260420T005614
CREATED:20260127T120052Z
LAST-MODIFIED:20260128T103702Z
UID:21772-1770663600-1770669000@behcetsuk.org
SUMMARY:Spouses/Partners of People with Behçet's Online Support Group Meeting
DESCRIPTION:Behçet’s UK Trustee Fionnuala Mc Kinley\, is hosting an online support group for spouses and partners of people living with Behçet’s on Monday\, 9 February 2026\, 19:00 – 20:30. \n“When a partner develops a long-term chronic illness like Behçet’s\, it affects more than just the person living with the condition. Family\, friends\, and co-workers may feel the impact\, but often the greatest effect is on their spouse or partner.” \nFionnuala McKinley\, Behçet’s UK Trustee \nThis group provides a safe and supportive space for anyone living in the UK whose spouse or partner has Behçet’s to share their thoughts and connect with others in similar situations who understand what they’re going through. \nThe group is open to people living in the UK (18+) whose spouse or partner has been diagnosed with\, or is seeking a diagnosis of\, Behçet’s. \nMeeting topic: General meeting\nThis session will be a general support group meeting\, where everyone can chat and ask questions. Fionnuala will guide the discussion based on your input. \nHow to join\nIf you are interested in joining this meeting\, please visit our Behçet’s Support Group page and complete the online registration form by 11:30 a.m. on Monday 09 February 2026. \nIf you are unable to attend this meeting but would like to receive invitations to future meetings\, please complete the online registration form at any time. \nFrequently Asked Questions\nIf you’d like to learn more about our support groups\, please view our Frequently Asked Questions.  If you have any other questions\, please feel free to email us at info@behcetsuk.org \nRemember\nBehçet’s Support Groups are run by volunteers with personal experience of Behçet’s or long-term involvement in the Behçet’s community. While Behçet’s UK and our volunteers cannot provide medical advice\, we can guide you to reliable information. Hearing about what has worked for others can also support your conversations with your own healthcare team. \nOur groups offer peer support – stories and tips shared in the groups reflect individual experiences. What works\, or doesn’t work\, for one person may not be the same for others. You must never delay seeking medical advice\, ignore professional guidance\, or stop/change your treatment based on information shared in support group meetings.
URL:https://behcetsuk.org/event/spouse-and-partner-online-support-group-meeting/
LOCATION:Online
CATEGORIES:Behçet's Support Groups
ORGANIZER;CN="Beh%C3%A7et's UK":MAILTO:info@behcetsuk.org
END:VEVENT
END:VCALENDAR