BEGIN:VCALENDAR
VERSION:2.0
PRODID:-//Behçet&#039;s UK - ECPv6.15.20//NONSGML v1.0//EN
CALSCALE:GREGORIAN
METHOD:PUBLISH
X-ORIGINAL-URL:https://behcetsuk.org
X-WR-CALDESC:Events for Behçet&#039;s UK
REFRESH-INTERVAL;VALUE=DURATION:PT1H
X-Robots-Tag:noindex
X-PUBLISHED-TTL:PT1H
BEGIN:VTIMEZONE
TZID:Europe/London
BEGIN:DAYLIGHT
TZOFFSETFROM:+0000
TZOFFSETTO:+0100
TZNAME:BST
DTSTART:20240331T010000
END:DAYLIGHT
BEGIN:STANDARD
TZOFFSETFROM:+0100
TZOFFSETTO:+0000
TZNAME:GMT
DTSTART:20241027T010000
END:STANDARD
BEGIN:DAYLIGHT
TZOFFSETFROM:+0000
TZOFFSETTO:+0100
TZNAME:BST
DTSTART:20250330T010000
END:DAYLIGHT
BEGIN:STANDARD
TZOFFSETFROM:+0100
TZOFFSETTO:+0000
TZNAME:GMT
DTSTART:20251026T010000
END:STANDARD
BEGIN:DAYLIGHT
TZOFFSETFROM:+0000
TZOFFSETTO:+0100
TZNAME:BST
DTSTART:20260329T010000
END:DAYLIGHT
BEGIN:STANDARD
TZOFFSETFROM:+0100
TZOFFSETTO:+0000
TZNAME:GMT
DTSTART:20261025T010000
END:STANDARD
END:VTIMEZONE
BEGIN:VEVENT
DTSTART;TZID=Europe/London:20250710T193000
DTEND;TZID=Europe/London:20250710T210000
DTSTAMP:20260420T133318
CREATED:20250624T152541Z
LAST-MODIFIED:20250624T160612Z
UID:21060-1752175800-1752181200@behcetsuk.org
SUMMARY:England Online Support Group Meeting
DESCRIPTION:Volunteer Sarah McAllister is hosting an online support group on Zoom on Thursday\, 10 July 2025\, from 7.30 pm – 9.00 pm for anyone affected by Behçet’s and living in England. \nMeeting topic: Behçet’s & intestines\nOverview and discussion about how Behçet’s affects the intestines: complications that may arise\, and what treatments are available. \nIf you are interested in joining or wish to know more\, please get in touch with Sarah via info@behcetsuk.org \nNote: We do not offer medical advice – this topic is to signpost you to information available online and discuss what works for others to encourage conversations with your own medical team about symptoms and treatment. Any discussions are anecdotal and must be treated as such.
URL:https://behcetsuk.org/event/england-online-support-group-meeting-17/
END:VEVENT
END:VCALENDAR