BEGIN:VCALENDAR
VERSION:2.0
PRODID:-//Behçet&#039;s UK - ECPv6.15.20//NONSGML v1.0//EN
CALSCALE:GREGORIAN
METHOD:PUBLISH
X-ORIGINAL-URL:https://behcetsuk.org
X-WR-CALDESC:Events for Behçet&#039;s UK
REFRESH-INTERVAL;VALUE=DURATION:PT1H
X-Robots-Tag:noindex
X-PUBLISHED-TTL:PT1H
BEGIN:VTIMEZONE
TZID:Europe/London
BEGIN:DAYLIGHT
TZOFFSETFROM:+0000
TZOFFSETTO:+0100
TZNAME:BST
DTSTART:20240331T010000
END:DAYLIGHT
BEGIN:STANDARD
TZOFFSETFROM:+0100
TZOFFSETTO:+0000
TZNAME:GMT
DTSTART:20241027T010000
END:STANDARD
BEGIN:DAYLIGHT
TZOFFSETFROM:+0000
TZOFFSETTO:+0100
TZNAME:BST
DTSTART:20250330T010000
END:DAYLIGHT
BEGIN:STANDARD
TZOFFSETFROM:+0100
TZOFFSETTO:+0000
TZNAME:GMT
DTSTART:20251026T010000
END:STANDARD
BEGIN:DAYLIGHT
TZOFFSETFROM:+0000
TZOFFSETTO:+0100
TZNAME:BST
DTSTART:20260329T010000
END:DAYLIGHT
BEGIN:STANDARD
TZOFFSETFROM:+0100
TZOFFSETTO:+0000
TZNAME:GMT
DTSTART:20261025T010000
END:STANDARD
END:VTIMEZONE
BEGIN:VEVENT
DTSTART;TZID=Europe/London:20250329T100000
DTEND;TZID=Europe/London:20250329T120000
DTSTAMP:20260420T201013
CREATED:20250205T152908Z
LAST-MODIFIED:20250224T143942Z
UID:20400-1743242400-1743249600@behcetsuk.org
SUMMARY:Wales Online Support Group Meeting
DESCRIPTION:Trustee Rachael Humphreys is hosting another Zoom support group meeting for those affected by Behçet’s in Wales on Saturday 29 March 2025 from 10am-12pm. \nIf you’d like to join the meeting\, please email Rachael via info@behcetsuk.org by 12pm midday on Friday 28 March. \nRead Rachael’s Behçet’s story in the ‘Your Behçet’s Stories’ series here.
URL:https://behcetsuk.org/event/wales-online-support-group-meeting-25/
CATEGORIES:Behçet's Support Groups
END:VEVENT
END:VCALENDAR