BEGIN:VCALENDAR
VERSION:2.0
PRODID:-//Behçet&#039;s UK - ECPv6.15.20//NONSGML v1.0//EN
CALSCALE:GREGORIAN
METHOD:PUBLISH
X-WR-CALNAME:Behçet&#039;s UK
X-ORIGINAL-URL:https://behcetsuk.org
X-WR-CALDESC:Events for Behçet&#039;s UK
REFRESH-INTERVAL;VALUE=DURATION:PT1H
X-Robots-Tag:noindex
X-PUBLISHED-TTL:PT1H
BEGIN:VTIMEZONE
TZID:Europe/London
BEGIN:DAYLIGHT
TZOFFSETFROM:+0000
TZOFFSETTO:+0100
TZNAME:BST
DTSTART:20240331T010000
END:DAYLIGHT
BEGIN:STANDARD
TZOFFSETFROM:+0100
TZOFFSETTO:+0000
TZNAME:GMT
DTSTART:20241027T010000
END:STANDARD
BEGIN:DAYLIGHT
TZOFFSETFROM:+0000
TZOFFSETTO:+0100
TZNAME:BST
DTSTART:20250330T010000
END:DAYLIGHT
BEGIN:STANDARD
TZOFFSETFROM:+0100
TZOFFSETTO:+0000
TZNAME:GMT
DTSTART:20251026T010000
END:STANDARD
BEGIN:DAYLIGHT
TZOFFSETFROM:+0000
TZOFFSETTO:+0100
TZNAME:BST
DTSTART:20260329T010000
END:DAYLIGHT
BEGIN:STANDARD
TZOFFSETFROM:+0100
TZOFFSETTO:+0000
TZNAME:GMT
DTSTART:20261025T010000
END:STANDARD
END:VTIMEZONE
BEGIN:VEVENT
DTSTART;TZID=Europe/London:20250318T193000
DTEND;TZID=Europe/London:20250318T210000
DTSTAMP:20260420T200916
CREATED:20250219T111538Z
LAST-MODIFIED:20250224T143907Z
UID:19163-1742326200-1742331600@behcetsuk.org
SUMMARY:England Online Support Group Meeting
DESCRIPTION:Volunteer Sarah McAllister is hosting an online support group on Zoom on Tuesday 18 March 2025 from 7.30pm-9:00pm for anyone affected by  Behçet’s patients and living in England. \nIf you are interested in joining or wish to know more\, please get in touch with Sarah via info@behcetsuk.org
URL:https://behcetsuk.org/event/england-online-support-group-meeting-14/
CATEGORIES:Behçet's Support Groups
ORGANIZER;CN="Beh%C3%A7et's UK":MAILTO:info@behcetsuk.org
END:VEVENT
END:VCALENDAR