BEGIN:VCALENDAR
VERSION:2.0
PRODID:-//Behçet&#039;s UK - ECPv6.15.20//NONSGML v1.0//EN
CALSCALE:GREGORIAN
METHOD:PUBLISH
X-ORIGINAL-URL:https://behcetsuk.org
X-WR-CALDESC:Events for Behçet&#039;s UK
REFRESH-INTERVAL;VALUE=DURATION:PT1H
X-Robots-Tag:noindex
X-PUBLISHED-TTL:PT1H
BEGIN:VTIMEZONE
TZID:Europe/London
BEGIN:DAYLIGHT
TZOFFSETFROM:+0000
TZOFFSETTO:+0100
TZNAME:BST
DTSTART:20240331T010000
END:DAYLIGHT
BEGIN:STANDARD
TZOFFSETFROM:+0100
TZOFFSETTO:+0000
TZNAME:GMT
DTSTART:20241027T010000
END:STANDARD
BEGIN:DAYLIGHT
TZOFFSETFROM:+0000
TZOFFSETTO:+0100
TZNAME:BST
DTSTART:20250330T010000
END:DAYLIGHT
BEGIN:STANDARD
TZOFFSETFROM:+0100
TZOFFSETTO:+0000
TZNAME:GMT
DTSTART:20251026T010000
END:STANDARD
BEGIN:DAYLIGHT
TZOFFSETFROM:+0000
TZOFFSETTO:+0100
TZNAME:BST
DTSTART:20260329T010000
END:DAYLIGHT
BEGIN:STANDARD
TZOFFSETFROM:+0100
TZOFFSETTO:+0000
TZNAME:GMT
DTSTART:20261025T010000
END:STANDARD
END:VTIMEZONE
BEGIN:VEVENT
DTSTART;TZID=Europe/London:20250307T123000
DTEND;TZID=Europe/London:20250307T140000
DTSTAMP:20260420T201012
CREATED:20250203T155300Z
LAST-MODIFIED:20250305T102213Z
UID:20341-1741350600-1741356000@behcetsuk.org
SUMMARY:WEBINAR: Management of Behçet's in Scotland
DESCRIPTION:Are you affected by Behçet’s and live in Scotland?\n\n\n \n\n\nJoin the Management of Behçet’s webinar on Friday 7 March 2025 from 12:30pm – 2pm. This is a collaborative event run by Behçet’s UK and the Office for Rare Conditions Glasgow in conjunction with the University of Glasgow\, Glasgow Children’s Hospital Charity and NHS Greater Glasgow and Clyde. \n\n\n \n\n\nThe webinar is open to medical professionals as well as anyone affected by Behçet’s (including patients and parents/carers) living in Scotland. \n\n\nPlease note registration will close on Thursday 6 March 2025.\n\n\n\nSee the flyer for the full schedule.\n\n \n\n\nTo register go to https://link.webropol.com/ep/BEHCETS 
URL:https://behcetsuk.org/event/webinar-management-of-behcets-in-scotland/
END:VEVENT
END:VCALENDAR