BEGIN:VCALENDAR
VERSION:2.0
PRODID:-//Behçet&#039;s UK - ECPv6.15.20//NONSGML v1.0//EN
CALSCALE:GREGORIAN
METHOD:PUBLISH
X-WR-CALNAME:Behçet&#039;s UK
X-ORIGINAL-URL:https://behcetsuk.org
X-WR-CALDESC:Events for Behçet&#039;s UK
REFRESH-INTERVAL;VALUE=DURATION:PT1H
X-Robots-Tag:noindex
X-PUBLISHED-TTL:PT1H
BEGIN:VTIMEZONE
TZID:Europe/London
BEGIN:DAYLIGHT
TZOFFSETFROM:+0000
TZOFFSETTO:+0100
TZNAME:BST
DTSTART:20240331T010000
END:DAYLIGHT
BEGIN:STANDARD
TZOFFSETFROM:+0100
TZOFFSETTO:+0000
TZNAME:GMT
DTSTART:20241027T010000
END:STANDARD
BEGIN:DAYLIGHT
TZOFFSETFROM:+0000
TZOFFSETTO:+0100
TZNAME:BST
DTSTART:20250330T010000
END:DAYLIGHT
BEGIN:STANDARD
TZOFFSETFROM:+0100
TZOFFSETTO:+0000
TZNAME:GMT
DTSTART:20251026T010000
END:STANDARD
BEGIN:DAYLIGHT
TZOFFSETFROM:+0000
TZOFFSETTO:+0100
TZNAME:BST
DTSTART:20260329T010000
END:DAYLIGHT
BEGIN:STANDARD
TZOFFSETFROM:+0100
TZOFFSETTO:+0000
TZNAME:GMT
DTSTART:20261025T010000
END:STANDARD
END:VTIMEZONE
BEGIN:VEVENT
DTSTART;TZID=Europe/London:20250122T193000
DTEND;TZID=Europe/London:20250122T210000
DTSTAMP:20260420T232844
CREATED:20250115T214536Z
LAST-MODIFIED:20250115T220539Z
UID:20244-1737574200-1737579600@behcetsuk.org
SUMMARY:Behçet's Scotland Support Group Zoom
DESCRIPTION:Vice-chair Catherine O’Hara is hosting an online support group meeting Zoom on Wednesday 22 January 2025 at 7.30 pm.  Anyone affected by Behçet’s who lives in Scotland is invited to join this friendly group. \nBehçet’s UK Chair\, Tony Thornburn\, will also join Catherine as they are keen to share and discuss an upcoming webinar we are running in conjunction with the Office for Rare Condition Glasgow focusing on the management of Behçet’s in Scotland. \nIf you would like to join the meeting or would like to know more\, please contact Catherine by email via info@behcetsuk.org
URL:https://behcetsuk.org/event/behcets-scotland-support-group-zoom/
ORGANIZER;CN="Beh%C3%A7et's UK":MAILTO:info@behcetsuk.org
END:VEVENT
END:VCALENDAR