BEGIN:VCALENDAR
VERSION:2.0
PRODID:-//Behçet&#039;s UK - ECPv6.15.20//NONSGML v1.0//EN
CALSCALE:GREGORIAN
METHOD:PUBLISH
X-WR-CALNAME:Behçet&#039;s UK
X-ORIGINAL-URL:https://behcetsuk.org
X-WR-CALDESC:Events for Behçet&#039;s UK
REFRESH-INTERVAL;VALUE=DURATION:PT1H
X-Robots-Tag:noindex
X-PUBLISHED-TTL:PT1H
BEGIN:VTIMEZONE
TZID:Europe/London
BEGIN:DAYLIGHT
TZOFFSETFROM:+0000
TZOFFSETTO:+0100
TZNAME:BST
DTSTART:20230326T010000
END:DAYLIGHT
BEGIN:STANDARD
TZOFFSETFROM:+0100
TZOFFSETTO:+0000
TZNAME:GMT
DTSTART:20231029T010000
END:STANDARD
BEGIN:DAYLIGHT
TZOFFSETFROM:+0000
TZOFFSETTO:+0100
TZNAME:BST
DTSTART:20240331T010000
END:DAYLIGHT
BEGIN:STANDARD
TZOFFSETFROM:+0100
TZOFFSETTO:+0000
TZNAME:GMT
DTSTART:20241027T010000
END:STANDARD
BEGIN:DAYLIGHT
TZOFFSETFROM:+0000
TZOFFSETTO:+0100
TZNAME:BST
DTSTART:20250330T010000
END:DAYLIGHT
BEGIN:STANDARD
TZOFFSETFROM:+0100
TZOFFSETTO:+0000
TZNAME:GMT
DTSTART:20251026T010000
END:STANDARD
END:VTIMEZONE
BEGIN:VEVENT
DTSTART;TZID=Europe/London:20240420T100000
DTEND;TZID=Europe/London:20240420T120000
DTSTAMP:20260421T145713
CREATED:20240325T112722Z
LAST-MODIFIED:20240325T112722Z
UID:18761-1713607200-1713614400@behcetsuk.org
SUMMARY:Wales Online Support Group Meeting
DESCRIPTION:Trustee Rachael Humphreys is hosting another Zoom support group meeting for those affected by Behçet’s in Wales on Saturday 20 April 2024 from 10am-12pm. \nIf you’d like to join the meeting\, please email Rachael via info@behcetsuk.org by 12pm midday on Friday 19 April. \nRead Rachael’s Behçet’s story in our ‘Your Behçet’s Stories’ series here.
URL:https://behcetsuk.org/event/wales-online-support-group-meeting-18/
END:VEVENT
BEGIN:VEVENT
DTSTART;TZID=Europe/London:20240420T100000
DTEND;TZID=Europe/London:20240420T133000
DTSTAMP:20260421T145713
CREATED:20240319T201744Z
LAST-MODIFIED:20240403T105134Z
UID:18706-1713607200-1713619800@behcetsuk.org
SUMMARY:Northern Ireland Mini-Conference 2024
DESCRIPTION:Registration is now open for our Northern Ireland Mini-conference. \nFind out more and register
URL:https://behcetsuk.org/event/northern-ireland-mini-conference/
LOCATION:Leonardo Hotel Belfast\, Great Victoria St\, Belfast\, BT1 6DY\, United Kingdom
CATEGORIES:Conferences
ORGANIZER;CN="Beh%C3%A7et's UK":MAILTO:info@behcetsuk.org
END:VEVENT
END:VCALENDAR