BEGIN:VCALENDAR
VERSION:2.0
PRODID:-//Behçet&#039;s UK - ECPv6.15.20//NONSGML v1.0//EN
CALSCALE:GREGORIAN
METHOD:PUBLISH
X-WR-CALNAME:Behçet&#039;s UK
X-ORIGINAL-URL:https://behcetsuk.org
X-WR-CALDESC:Events for Behçet&#039;s UK
REFRESH-INTERVAL;VALUE=DURATION:PT1H
X-Robots-Tag:noindex
X-PUBLISHED-TTL:PT1H
BEGIN:VTIMEZONE
TZID:Europe/London
BEGIN:DAYLIGHT
TZOFFSETFROM:+0000
TZOFFSETTO:+0100
TZNAME:BST
DTSTART:20230326T010000
END:DAYLIGHT
BEGIN:STANDARD
TZOFFSETFROM:+0100
TZOFFSETTO:+0000
TZNAME:GMT
DTSTART:20231029T010000
END:STANDARD
BEGIN:DAYLIGHT
TZOFFSETFROM:+0000
TZOFFSETTO:+0100
TZNAME:BST
DTSTART:20240331T010000
END:DAYLIGHT
BEGIN:STANDARD
TZOFFSETFROM:+0100
TZOFFSETTO:+0000
TZNAME:GMT
DTSTART:20241027T010000
END:STANDARD
BEGIN:DAYLIGHT
TZOFFSETFROM:+0000
TZOFFSETTO:+0100
TZNAME:BST
DTSTART:20250330T010000
END:DAYLIGHT
BEGIN:STANDARD
TZOFFSETFROM:+0100
TZOFFSETTO:+0000
TZNAME:GMT
DTSTART:20251026T010000
END:STANDARD
END:VTIMEZONE
BEGIN:VEVENT
DTSTART;TZID=Europe/London:20240120T100000
DTEND;TZID=Europe/London:20240120T120000
DTSTAMP:20260421T195608
CREATED:20231208T115744Z
LAST-MODIFIED:20231208T115744Z
UID:18184-1705744800-1705752000@behcetsuk.org
SUMMARY:Wales Online Support Group Meeting
DESCRIPTION:Trustee Rachael Humphreys is hosting another Zoom support group meeting for those affected by Behçet’s in Wales on Saturday 20 January 2024 at 10am. \nIf you’d like to join the meeting\, please email Rachael via info@behcetsuk.org by 12pm midday on Friday 19 January. \nRead Rachael’s Behçet’s story in our ‘Your Behçet’s Stories’ series here.
URL:https://behcetsuk.org/event/wales-online-support-group-meeting-15/
END:VEVENT
END:VCALENDAR